BEGIN:VCALENDAR
VERSION:2.0
PRODID:icalendar-ruby
CALSCALE:GREGORIAN
METHOD:PUBLISH
BEGIN:VEVENT
DTSTAMP:20260421T121548Z
UID:5-400212@onenation.tithelysetup2.com
DTSTART:20261004T173000Z
DTEND:20261004T183000Z
CLASS:PUBLIC
CREATED:20260420T181543
DESCRIPTION:Sunday Worship
LAST-MODIFIED:20260420T181543
LOCATION:
SUMMARY:Sunday Worship
URL;VALUE=URI:https://onenation.tithelysetup2.com/events/sunday-worship/202
 6-10-04
END:VEVENT
END:VCALENDAR
